BEGIN:VCALENDAR
VERSION:2.0
PRODID:-//Le Nomade - ECPv6.15.11//NONSGML v1.0//EN
CALSCALE:GREGORIAN
METHOD:PUBLISH
X-ORIGINAL-URL:https://www.lenomadebxl.be
X-WR-CALDESC:Évènements pour Le Nomade
REFRESH-INTERVAL;VALUE=DURATION:PT1H
X-Robots-Tag:noindex
X-PUBLISHED-TTL:PT1H
BEGIN:VTIMEZONE
TZID:UTC
BEGIN:STANDARD
TZOFFSETFROM:+0000
TZOFFSETTO:+0000
TZNAME:UTC
DTSTART:20240101T000000
END:STANDARD
END:VTIMEZONE
BEGIN:VEVENT
DTSTART;TZID=UTC:20250116T200000
DTEND;TZID=UTC:20250116T220000
DTSTAMP:20260420T005904
CREATED:20250520T133326Z
LAST-MODIFIED:20250618T121712Z
UID:597-1737057600-1737064800@www.lenomadebxl.be
SUMMARY:FRONTEX EN BELGIQUE : une menace pour les droits fondamentaux ?
DESCRIPTION:Le 2 mai 2024\, juste avant la dissolution préalable aux élections du 9 juin\, le Parlement fédéral belge adoptait plusieurs lois en matière de migrations dont une dénommée « loi Frontex ». Cette loi permet en effet le déploiement sur le territoire belge de « l’Agence européenne de garde-frontières et de garde-côtes » (Frontex). Le personnel de Frontex pourrait ainsi venir en soutien à la police belge\, que ce soit pour le contrôle aux frontières (dans les aéroports et gares internationales) ou les expulsions de personnes migrantes. Or cette agence a une réputation peu flatteuse : elle fait l’objet de plusieurs enquêtes par diverses instances européennes et de critiques virulentes d’organisations de défense des droits humains\, pour son manque de transparence sur ses opérations et pour des cas documentés de violations graves des droits des personnes migrantes. \nQu’est-ce que Frontex ? Que prévoit la « loi Frontex » ? En quoi risque-t-elle de fragiliser l’édifice des droits fondamentaux en Belgique ? Dans quel contexte de politique générale en matière de migrations s’inscrit-elle ? Que dit-elle du récit politique dominant sur les migrations ? Comment proposer un autre récit ? Quel rôle la mobilisation citoyenne peut-elle jouer sur les politiques d’asile\, d’immigration et d’intégration ? Et plus globalement\, quelle fonction assigner aux frontières dans notre monde globalisé ? \nCes questions seront au cœur d’une conférence participative organisée par l’ACAT Belgique (Action des chrétiens pour l’abolition de la torture) et le Centre Avec le jeudi 16 janvier 2025 à 20h00 au Nomade (Bruxelles). \nLa soirée commencera par l’éclairage de deux personnes qui connaissent bien le contexte qui a présidé à l’adoption de cette loi et son contenu : \n\nNoémi Desguin\, juriste de la Coalition MOVE qui rassemble plusieurs associations de défense des droits des personnes en migration autour des questions de détention administrative ;\nSimon Moutquin\, ex-parlementaire ECOLO\, en charge des questions migratoires pour son groupe parlementaire au cours de la législature précédente et très impliqué dans les débats autour de la loi Frontex.\n\nLa deuxième partie de la soirée sera consacrée à une réflexion commune sur les questions soulevées par l’adoption de cette loi\, entre participants et avec les deux intervenants. \nModalités :\n\nQuand ? Le jeudi 16 janvier 2025 à 20h00 (ouverture du bar dès 19h30)\nOù ? Le Nomade (chaussée de Wavre 203\, 1050 Ixelles)\nPrix libre (prix indiqué travailleur 5€ / étudiant ou demandeur d’emploi 2€)\nInfos et inscription (souhaitée) : www.centreavec.be ou info@centreavec.be
URL:https://www.lenomadebxl.be/event/frontex-en-belgique-une-menace-pour-les-droits-fondamentaux/
LOCATION:Le Nomade\, chaussée de Wavre 203\, Ixelles\, 1050\, Belgium
CATEGORIES:#Conférences,Toutes les activités
ATTACH;FMTTYPE=image/jpeg:https://www.lenomadebxl.be/wp-content/uploads/2025/05/frontex_nomade_affiche-scaled-e1747747901164.jpg
END:VEVENT
END:VCALENDAR