BEGIN:VCALENDAR
VERSION:2.0
PRODID:-//Le Nomade - ECPv6.15.11//NONSGML v1.0//EN
CALSCALE:GREGORIAN
METHOD:PUBLISH
X-WR-CALNAME:Le Nomade
X-ORIGINAL-URL:https://www.lenomadebxl.be
X-WR-CALDESC:Évènements pour Le Nomade
REFRESH-INTERVAL;VALUE=DURATION:PT1H
X-Robots-Tag:noindex
X-PUBLISHED-TTL:PT1H
BEGIN:VTIMEZONE
TZID:UTC
BEGIN:STANDARD
TZOFFSETFROM:+0000
TZOFFSETTO:+0000
TZNAME:UTC
DTSTART:20240101T000000
END:STANDARD
END:VTIMEZONE
BEGIN:VEVENT
DTSTART;TZID=UTC:20250521T200000
DTEND;TZID=UTC:20250521T220000
DTSTAMP:20260419T194046
CREATED:20250521T085356Z
LAST-MODIFIED:20250618T121658Z
UID:644-1747857600-1747864800@www.lenomadebxl.be
SUMMARY:La théologie de la libération aux États-Unis : une source de résistance au trumpisme ?
DESCRIPTION:Le Nomade et le Centre Avec vous invitent à une conférence participative avec le jésuite américain David Inczauskis\, autour de la théologie de la libération et d’initiatives d’organisation communautaire aux États-Unis\, envisagées comme sources et moyens de résistance à l’extrême-droitisation de la politique américaine. \n\nInformations pratiques :\n\nQuand ? Le mercredi 21 mai 2025 à 20h (ouverture du bar dès 18h30)\nOù ? Le Nomade (chaussée de Wavre 203\, 1050 Ixelles)\nPrix libre (prix indiqué travailleur 5€ / étudiant ou demandeur d’emploi 2€)\nInfos et inscription (bienvenue) : www.centreavec.be ou info@centreavec.be
URL:https://www.lenomadebxl.be/event/test-la-theologie-de-la-liberation-aux-etats-unis-une-source-de-resistance-au-trumpisme/
LOCATION:Le Nomade\, chaussée de Wavre 203\, Ixelles\, 1050\, Belgium
CATEGORIES:#Conférences,Toutes les activités
ATTACH;FMTTYPE=image/jpeg:https://www.lenomadebxl.be/wp-content/uploads/2025/05/David_nomade-e1747744555279.jpg
END:VEVENT
END:VCALENDAR