BEGIN:VCALENDAR
VERSION:2.0
PRODID:-//Le Nomade - ECPv6.15.11//NONSGML v1.0//EN
CALSCALE:GREGORIAN
METHOD:PUBLISH
X-WR-CALNAME:Le Nomade
X-ORIGINAL-URL:https://www.lenomadebxl.be
X-WR-CALDESC:Évènements pour Le Nomade
REFRESH-INTERVAL;VALUE=DURATION:PT1H
X-Robots-Tag:noindex
X-PUBLISHED-TTL:PT1H
BEGIN:VTIMEZONE
TZID:UTC
BEGIN:STANDARD
TZOFFSETFROM:+0000
TZOFFSETTO:+0000
TZNAME:UTC
DTSTART:20240101T000000
END:STANDARD
END:VTIMEZONE
BEGIN:VEVENT
DTSTART;TZID=UTC:20250611T200000
DTEND;TZID=UTC:20250611T220000
DTSTAMP:20260420T061235
CREATED:20250528T132821Z
LAST-MODIFIED:20250618T121652Z
UID:948-1749672000-1749679200@www.lenomadebxl.be
SUMMARY:Que faire de la souffrance ? Face au handicap\, l’amour coûte que coûte !
DESCRIPTION:Le Nomade et le Centre Avec vous invitent à une rencontre et discussion avec Claire Dierckx\, juriste de formation\, atteinte d’une maladie neurodégénérative\, autour de son livre L’Amour coûte que coûte. \n\n\n\n\n« Un tragique dilemme : que faire lorsque l’on a 30 ans\, une soif de vie immense\, le goût de l’aventure et des autres\, mais qu’on est atteint de la même maladie neurodégénérative que son propre père\, lui qui a demandé et obtenu l’euthanasie ? La solution de facilité\, c’est la révolte\, le désespoir de se dire « pourquoi moi » ? Oui\, il y a des périodes de découragement intense\, la lutte pour ne pas céder à la même tentation de tout arrêter. Mais la vraie question est : « Que faire de ma souffrance ? » En cherchant une réponse\, en avançant coûte que coûte\, Claire Dierckx retrouve un ami d’enfance longtemps délaissé : Dieu. Celui qui la relève chaque fois qu’elle tombe mais qui a besoin d’elle pour se révéler au monde. Et au détour de ce témoignage extraordinaire\, elle nous livre ce message : « Ose croire\, ose aimer. » Une leçon de vie bouleversante\, pleine d’humour et d’espérance. Pour comprendre autrement la souffrance. »\nClaire Dierckx\, L’Amour coûte que coûte\, Cerf\, 2024. \n\nInformations pratiques :\n\nQuand ? Le mercredi 11 juin 2025 à 20h (ouverture du bar dès 18h30)\nOù ? Le Nomade (chaussée de Wavre 203\, 1050 Ixelles)\nPrix libre (prix indiqué travailleur 5€ / étudiant ou demandeur d’emploi 2€)\nInfos et inscription (bienvenue) : www.centreavec.be ou info@centreavec.be
URL:https://www.lenomadebxl.be/event/que-faire-de-la-souffrance-face-au-handicap-lamour-coute-que-coute/
LOCATION:Le Nomade\, chaussée de Wavre 203\, Ixelles\, 1050\, Belgium
CATEGORIES:#Conférences,Toutes les activités
ATTACH;FMTTYPE=image/jpeg:https://www.lenomadebxl.be/wp-content/uploads/2025/05/Claire_nomade.jpg
END:VEVENT
BEGIN:VEVENT
DTSTART;TZID=UTC:20250618T183000
DTEND;TZID=UTC:20250618T213000
DTSTAMP:20260420T061235
CREATED:20250618T101502Z
LAST-MODIFIED:20250618T124019Z
UID:1035-1750271400-1750282200@www.lenomadebxl.be
SUMMARY:Permanences du Nomade
DESCRIPTION:Le Nomade est ouvert tous les mercredis de 18h30 à 21h30 : soyez les bienvenus pour discuter\, taper la carte\, lire un livre ou boire un verre !
URL:https://www.lenomadebxl.be/event/permanences-du-nomade/
LOCATION:Le Nomade\, chaussée de Wavre 203\, Ixelles\, 1050\, Belgium
CATEGORIES:#Permanences,Toutes les activités
END:VEVENT
BEGIN:VEVENT
DTSTART;TZID=UTC:20250618T190000
DTEND;TZID=UTC:20250618T220000
DTSTAMP:20260420T061235
CREATED:20250528T132448Z
LAST-MODIFIED:20250618T124107Z
UID:945-1750273200-1750284000@www.lenomadebxl.be
SUMMARY:Table de discussion : Le catholicisme selon JD Vance
DESCRIPTION:Le Nomade\, en partenariat avec le Centre Avec et Bâtir le Bien Commun\, vous convie à une table de discussion autour de la dimension catholique de la doctrine de JD Vance. Le vice-président des Etats-Unis revendique l’ambition de lier sa foi catholique à son engagement politique. Plus qu’un épiphénomène\, JD Vance semble représenter une tendance importante du christianisme étatsunien\, au moins à l’échelle de la production intellectuelle\, qui se solidarise autour d’un projet dit « postlibéral ». Estimant que le libéralisme (notamment la démocratie parlementaire) a montré ses limites et mené l’Occident à la décadence\, les postlibéraux envisagent une société guidée par une élite qui renouerait avec une vision hiérarchique et décisionniste du politique. \nEn pratique :\nNous nous retrouverons pour boire un verre et discuter au Nomade le 18 juin à 19h. \nLa discussion sera animée par des personnes familières du sujet\, qui baliseront les échanges en fournissant des informations de base sur les grandes tendances et figures du postlibéralisme dans sa variante chrétienne. L’objectif est de faire sens ensemble de cette nouveauté politique et d’interroger ce que cela nous dit des affinités ou conflictualités entre le catholicisme et l’autoritarisme. L’échange est ouvert à toutes et tous\, et tout le monde est invité à participer s’il le souhaite. \nCelles et ceux qui voudraient présenter ou voir aborder un point qui leur semble important relatif au sujet traité peuvent envoyer un mail à l’adresse suivante : jean-baptiste.ghins@uclouvain.be \nRessources :\n\nhttps://www.lavie.fr/actualite/geopolitique/comment-le-vice-president-americain-jd-vance-utilise-t-il-le-catholicisme-a-des-fins-populistes-98563.php\nhttps://www.revuepolitique.be/catholicisme-politique-jd-vance-est-il-lunique-horizon/\nhttps://legrandcontinent.eu/fr/2025/01/21/se-preparer-a-lempire-curtis-yarvin-prophete-des-lumieres-noires/\nhttps://www.theatlantic.com/ideas/archive/2024/08/jd-vance-post-liberal-catholics-thiel/679388/\nhttps://www.institutmontaigne.org/expressions/le-big-bang-maga-aux-origines-du-trumpisme
URL:https://www.lenomadebxl.be/event/table-de-discussion-le-catholicisme-selon-jd-vance/
LOCATION:Le Nomade\, chaussée de Wavre 203\, Ixelles\, 1050\, Belgium
CATEGORIES:#Conférences,Toutes les activités
ATTACH;FMTTYPE=image/jpeg:https://www.lenomadebxl.be/wp-content/uploads/2025/05/JC-Vance_nomade.jpg
END:VEVENT
BEGIN:VEVENT
DTSTART;TZID=UTC:20250619T110000
DTEND;TZID=UTC:20250619T140000
DTSTAMP:20260420T061235
CREATED:20250618T123433Z
LAST-MODIFIED:20250618T123433Z
UID:1053-1750330800-1750341600@www.lenomadebxl.be
SUMMARY:Un sandwich pour tous !
DESCRIPTION:Chaque jeudi\, l’association Qyamto propose un Sandwich pour tous au Nomade. Rendez-vous dès 11h pour préparer et partager un repas solidaire.
URL:https://www.lenomadebxl.be/event/un-sandwich-pour-tous/
CATEGORIES:#Qyamto,Toutes les activités
END:VEVENT
BEGIN:VEVENT
DTSTART;TZID=UTC:20250625T200000
DTEND;TZID=UTC:20250625T220000
DTSTAMP:20260420T061235
CREATED:20250618T073220Z
LAST-MODIFIED:20250618T121633Z
UID:964-1750881600-1750888800@www.lenomadebxl.be
SUMMARY:Visages méconnus\, visages reconnus ?
DESCRIPTION:Le Nomade et le Centre Avec vous invitent à une rencontre et discussion en présence de militants\, volontaires et alliés du Mouvement ATD Quart Monde\, autour de leur ouvrage collectif « Visages méconnus\, visages reconnus ». Cette conférence participative portera sur les formes de résistance à la misère\, à travers les récits et les engagements de celles et ceux qui la vivent au quotidien. \n  \n \n\nOnze récitants ont osé rompre le silence\, dire la violence qui leur a été faite\, souvent dès l’enfance\, dire la résistance qu’ils ont opposée\, parfois en vain. Dire les ruses souvent éventées ou les rebellions généralement étouffées pour affirmer une liberté contestée ou une parole réprimée. \nCette parole jusqu’ici enfouie\, mais rapportée dans leur récit\, personne ne pourra plus jamais la démentir : nous sommes libres de penser\, disent-ils\, et notre pensée est aussi précieuse que celle d’un chacun\, elle fait progresser l’histoire de tous vers plus d’humanité. \nIls gardent l’espoir que leur message sera entendu… \nLes coauteurs qui ont formé les duos d’écriture ont en commun d’être engagés avec le Mouvement ATD Quart Monde en qualité de militant\, de volontaire permanent ou d’allié\, certains depuis longtemps\, d’autres plus récemment. Tous sont embarqués dans un combat pour l’égale dignité.Georges de Kerchove\, avocat honoraire\, ardent défenseur des droits humains et membre d’ATD Quart Monde\, coordonne cet ouvrage écrit avec : Christiane Bajémond\, Bernadette Berlemont\, Patrick Cambraye\, Vinciane Charlier\, Corinne Chevrot\, Claudine Delnaisse\, Nancy Demol\, Johan Dequene\, Pierre Hendrick\, Marcelle Ledieu\,Agathe Osinski\, Catherine Romanczak\, Brigitte Rondaux\, Pierre Scalliet\, Emilie Syssau\, Monique Tonglet-Vélu et Zian Zugic. \nGeorges de Kerchove (dir.)\, Visages méconnus\, visages reconnus\, ATD Quart Monde – Le Bord de l’eau\, 2024. \n  \nInformations pratiques :\n\nQuand ? Le mercredi 25 juin 2025 à 20h (ouverture du bar dès 18h30)\nOù ? Le Nomade (chaussée de Wavre 203\, 1050 Ixelles)\nPrix libre (prix indiqué travailleur 5€ / étudiant ou demandeur d’emploi 2€)\nInfos et inscription (bienvenue) : www.centreavec.be ou info@centreavec.be
URL:https://www.lenomadebxl.be/event/visages-meconnus-visages-reconnusrefresh_css/
LOCATION:Le Nomade\, chaussée de Wavre 203\, Ixelles\, 1050\, Belgium
CATEGORIES:#Conférences,Toutes les activités
ATTACH;FMTTYPE=image/jpeg:https://www.lenomadebxl.be/wp-content/uploads/2025/06/ATD_Nomade-2025.jpg
END:VEVENT
END:VCALENDAR